BEGIN:VCALENDAR
VERSION:2.0
PRODID:-//Murrayshall Country Estate &amp; Golf Club - ECPv6.15.20//NONSGML v1.0//EN
CALSCALE:GREGORIAN
METHOD:PUBLISH
X-WR-CALNAME:Murrayshall Country Estate &amp; Golf Club
X-ORIGINAL-URL:https://www.murrayshall.co.uk
X-WR-CALDESC:Events for Murrayshall Country Estate &amp; Golf Club
REFRESH-INTERVAL;VALUE=DURATION:PT1H
X-Robots-Tag:noindex
X-PUBLISHED-TTL:PT1H
BEGIN:VTIMEZONE
TZID:Europe/London
BEGIN:DAYLIGHT
TZOFFSETFROM:+0000
TZOFFSETTO:+0100
TZNAME:BST
DTSTART:20250330T010000
END:DAYLIGHT
BEGIN:STANDARD
TZOFFSETFROM:+0100
TZOFFSETTO:+0000
TZNAME:GMT
DTSTART:20251026T010000
END:STANDARD
BEGIN:DAYLIGHT
TZOFFSETFROM:+0000
TZOFFSETTO:+0100
TZNAME:BST
DTSTART:20260329T010000
END:DAYLIGHT
BEGIN:STANDARD
TZOFFSETFROM:+0100
TZOFFSETTO:+0000
TZNAME:GMT
DTSTART:20261025T010000
END:STANDARD
BEGIN:DAYLIGHT
TZOFFSETFROM:+0000
TZOFFSETTO:+0100
TZNAME:BST
DTSTART:20270328T010000
END:DAYLIGHT
BEGIN:STANDARD
TZOFFSETFROM:+0100
TZOFFSETTO:+0000
TZNAME:GMT
DTSTART:20271031T010000
END:STANDARD
END:VTIMEZONE
BEGIN:VEVENT
DTSTART;TZID=Europe/London:20260424T180000
DTEND;TZID=Europe/London:20260424T210000
DTSTAMP:20260420T100846
CREATED:20260316T111447Z
LAST-MODIFIED:20260316T111447Z
UID:4427-1777053600-1777064400@www.murrayshall.co.uk
SUMMARY:Live Music
DESCRIPTION:Scott Reeves is live in Cairns! Enjoy live music alongside your meal. A mixture of classics\, covers\, originals and more for the evening. \nWalk-ins welcome. \nTo book\, call 01738 551171 or e-mail sales@murrayshall.co.uk
URL:https://www.murrayshall.co.uk/event/live-music-6/
END:VEVENT
END:VCALENDAR