BEGIN:VCALENDAR
VERSION:2.0
PRODID:-//Murrayshall Country Estate &amp; Golf Club - ECPv6.15.20//NONSGML v1.0//EN
CALSCALE:GREGORIAN
METHOD:PUBLISH
X-ORIGINAL-URL:https://www.murrayshall.co.uk
X-WR-CALDESC:Events for Murrayshall Country Estate &amp; Golf Club
REFRESH-INTERVAL;VALUE=DURATION:PT1H
X-Robots-Tag:noindex
X-PUBLISHED-TTL:PT1H
BEGIN:VTIMEZONE
TZID:Europe/London
BEGIN:DAYLIGHT
TZOFFSETFROM:+0000
TZOFFSETTO:+0100
TZNAME:BST
DTSTART:20250330T010000
END:DAYLIGHT
BEGIN:STANDARD
TZOFFSETFROM:+0100
TZOFFSETTO:+0000
TZNAME:GMT
DTSTART:20251026T010000
END:STANDARD
BEGIN:DAYLIGHT
TZOFFSETFROM:+0000
TZOFFSETTO:+0100
TZNAME:BST
DTSTART:20260329T010000
END:DAYLIGHT
BEGIN:STANDARD
TZOFFSETFROM:+0100
TZOFFSETTO:+0000
TZNAME:GMT
DTSTART:20261025T010000
END:STANDARD
BEGIN:DAYLIGHT
TZOFFSETFROM:+0000
TZOFFSETTO:+0100
TZNAME:BST
DTSTART:20270328T010000
END:DAYLIGHT
BEGIN:STANDARD
TZOFFSETFROM:+0100
TZOFFSETTO:+0000
TZNAME:GMT
DTSTART:20271031T010000
END:STANDARD
END:VTIMEZONE
BEGIN:VEVENT
DTSTART;TZID=Europe/London:20260730T180000
DTEND;TZID=Europe/London:20260730T210000
DTSTAMP:20260422T162605
CREATED:20260316T125602Z
LAST-MODIFIED:20260316T133225Z
UID:4442-1785434400-1785445200@www.murrayshall.co.uk
SUMMARY:Curry Night
DESCRIPTION:Sri Lankan Curry Night in Cairns will showcase Sahan’s new dishes. For £18.50 per person\, enjoy a selection of three tastebud-hugging curries along with rice\, naan and poppadoms. This is a night to appreciate Sri Lankan culture and expand your horizons. Served from 6pm. \nWalk-ins welcome. \nTo book\, call 01738 551171 or e-mail sales@murrayshall.co.uk
URL:https://www.murrayshall.co.uk/event/curry-night-2/
LOCATION:Murrayshall\, Murrayshall Country Estate\, Scone.\, Perth\, PH2 7PH\, United Kingdom
ORGANIZER;CN="Murrayshall Country Estate":MAILTO:sales@murrayshall.co.uk
END:VEVENT
END:VCALENDAR