BEGIN:VCALENDAR
VERSION:2.0
PRODID:-//Murrayshall Country Estate &amp; Golf Club - ECPv6.15.20//NONSGML v1.0//EN
CALSCALE:GREGORIAN
METHOD:PUBLISH
X-WR-CALNAME:Murrayshall Country Estate &amp; Golf Club
X-ORIGINAL-URL:https://www.murrayshall.co.uk
X-WR-CALDESC:Events for Murrayshall Country Estate &amp; Golf Club
REFRESH-INTERVAL;VALUE=DURATION:PT1H
X-Robots-Tag:noindex
X-PUBLISHED-TTL:PT1H
BEGIN:VTIMEZONE
TZID:Europe/London
BEGIN:DAYLIGHT
TZOFFSETFROM:+0000
TZOFFSETTO:+0100
TZNAME:BST
DTSTART:20240331T010000
END:DAYLIGHT
BEGIN:STANDARD
TZOFFSETFROM:+0100
TZOFFSETTO:+0000
TZNAME:GMT
DTSTART:20241027T010000
END:STANDARD
BEGIN:DAYLIGHT
TZOFFSETFROM:+0000
TZOFFSETTO:+0100
TZNAME:BST
DTSTART:20250330T010000
END:DAYLIGHT
BEGIN:STANDARD
TZOFFSETFROM:+0100
TZOFFSETTO:+0000
TZNAME:GMT
DTSTART:20251026T010000
END:STANDARD
BEGIN:DAYLIGHT
TZOFFSETFROM:+0000
TZOFFSETTO:+0100
TZNAME:BST
DTSTART:20260329T010000
END:DAYLIGHT
BEGIN:STANDARD
TZOFFSETFROM:+0100
TZOFFSETTO:+0000
TZNAME:GMT
DTSTART:20261025T010000
END:STANDARD
BEGIN:DAYLIGHT
TZOFFSETFROM:+0000
TZOFFSETTO:+0100
TZNAME:BST
DTSTART:20270328T010000
END:DAYLIGHT
BEGIN:STANDARD
TZOFFSETFROM:+0100
TZOFFSETTO:+0000
TZNAME:GMT
DTSTART:20271031T010000
END:STANDARD
END:VTIMEZONE
BEGIN:VEVENT
DTSTART;TZID=Europe/London:20260515T180000
DTEND;TZID=Europe/London:20260515T210000
DTSTAMP:20260423T043947
CREATED:20260316T122956Z
LAST-MODIFIED:20260316T133600Z
UID:4436-1778868000-1778878800@www.murrayshall.co.uk
SUMMARY:Live Music
DESCRIPTION:Listen to Katie Whittaker live in Cairns. Katie will ensure your night is perfectly accommodated with memorable melodies and classic tunes. It is important to support local artists and ensure they are recognised f0r their talent. \nWalk-ins welcome. \nTo reserve a table call 01738 551171 or e-mail sales@murrayshall.co.uk
URL:https://www.murrayshall.co.uk/event/live-music-8/
LOCATION:Murrayshall\, Murrayshall Country Estate\, Scone.\, Perth\, PH2 7PH\, United Kingdom
END:VEVENT
BEGIN:VEVENT
DTSTART;TZID=Europe/London:20260514T110000
DTEND;TZID=Europe/London:20260514T130000
DTSTAMP:20260423T043947
CREATED:20260316T113403Z
LAST-MODIFIED:20260316T151529Z
UID:4431-1778756400-1778763600@www.murrayshall.co.uk
SUMMARY:Ladies Day Boozy Brunch
DESCRIPTION:Treat yourself to a Ladies Day Boozy Brunch\, for just £40 per person. Enjoy a brunch with two cocktails of your choice\, to get you ready for the day ahead. No need to worry about travel as there will be a bus to Murrayshall and to Perth Race Course. \nTo book\, call 01738 551171 or email sales@murrayshall.co.uk
URL:https://www.murrayshall.co.uk/event/boozy-brunch-2/
LOCATION:Murrayshall\, Murrayshall Country Estate\, Scone.\, Perth\, PH2 7PH\, United Kingdom
END:VEVENT
BEGIN:VEVENT
DTSTART;TZID=Europe/London:20260513T120000
DTEND;TZID=Europe/London:20260513T140000
DTSTAMP:20260423T043947
CREATED:20260316T112933Z
LAST-MODIFIED:20260316T133630Z
UID:4430-1778673600-1778680800@www.murrayshall.co.uk
SUMMARY:Boozy Race Afternoon Tea
DESCRIPTION:Enjoy your known afternoon tea\, but with a twist. In collaboration with Edinburgh Gin\, enjoy 2 cocktails or gin drinks per person\, with your afternoon tea. For £40 per person\, this includes a bus to Murrayshall and Perth Race Course. The perfect way to spend the afternoon before visiting the Perth Race Course. \nTo book\, call 01738 551171 or e-mail sales@murrayshall.co.uk
URL:https://www.murrayshall.co.uk/event/boozy-race-afternoon-tea/
LOCATION:Murrayshall\, Murrayshall Country Estate\, Scone.\, Perth\, PH2 7PH\, United Kingdom
END:VEVENT
BEGIN:VEVENT
DTSTART;TZID=Europe/London:20260510T120000
DTEND;TZID=Europe/London:20260510T150000
DTSTAMP:20260423T043947
CREATED:20260316T112246Z
LAST-MODIFIED:20260316T112246Z
UID:4429-1778414400-1778425200@www.murrayshall.co.uk
SUMMARY:Stationary Workshop
DESCRIPTION:Create your own stationary with Audrey\, for £70 per person\, all materials included. Spend the day creating your own office or school stationary\, completely customisable to your own taste and style. \nTo book\, email sales@murrayshall.co.uk
URL:https://www.murrayshall.co.uk/event/stationary-workshop/
END:VEVENT
BEGIN:VEVENT
DTSTART;TZID=Europe/London:20260508T180000
DTEND;TZID=Europe/London:20260508T210000
DTSTAMP:20260423T043947
CREATED:20260316T111857Z
LAST-MODIFIED:20260316T133657Z
UID:4428-1778263200-1778274000@www.murrayshall.co.uk
SUMMARY:Steak and Jazz
DESCRIPTION:Steak and Jazz night in Cairns\, for just £70 for two people. Enjoy a romantic night together\, being serenaded by Lucas Plowman’s Jazz Band and feasting on your chosen steak. The perfect way to spend a Friday evening. \nTo book\, call 01738 551171 or email sales@murrayshall.co.uk
URL:https://www.murrayshall.co.uk/event/steak-and-jazz/
LOCATION:Murrayshall\, Murrayshall Country Estate\, Scone.\, Perth\, PH2 7PH\, United Kingdom
END:VEVENT
BEGIN:VEVENT
DTSTART;TZID=Europe/London:20260501T180000
DTEND;TZID=Europe/London:20260501T210000
DTSTAMP:20260423T043947
CREATED:20260316T120951Z
LAST-MODIFIED:20260316T121226Z
UID:4435-1777658400-1777669200@www.murrayshall.co.uk
SUMMARY:Live Music
DESCRIPTION:Floyd Tomlinson will be live in Cairns on Friday the first of May. Enjoy tunes from all decades\, genres and discover your new favourite singer. Your night will be a night to remember\, with delicious food and mesmerising music. \nWalk-ins welcome. \nTo book\, call 01738 551171 or email sales@murrayshall.co.uk
URL:https://www.murrayshall.co.uk/event/live-music-7/
END:VEVENT
BEGIN:VEVENT
DTSTART;TZID=Europe/London:20260426T120000
DTEND;TZID=Europe/London:20260426T160000
DTSTAMP:20260423T043947
CREATED:20260316T105406Z
LAST-MODIFIED:20260326T131517Z
UID:4423-1777204800-1777219200@www.murrayshall.co.uk
SUMMARY:Murrayshall Wedding Fayre 2026
DESCRIPTION:Looking for a celebrant\, caterer\, decorator or florist? Even just looking for wedding ideas? Look no further than Murrayshall\, we are hosting a Wedding Fayre on Sunday the 26th of April to fulfil all of your needs. There will be many stalls hosted by local businesses looking to make your wedding special. On arrival enjoy a complimentary glass of prosecco\, canapés. \nCharges for meals still apply. \nNo booking necessary. For more information call 01738 551171. \n 
URL:https://www.murrayshall.co.uk/event/murrayshall-wedding-fayre-2026/
END:VEVENT
BEGIN:VEVENT
DTSTART;TZID=Europe/London:20260424T180000
DTEND;TZID=Europe/London:20260424T210000
DTSTAMP:20260423T043947
CREATED:20260316T111447Z
LAST-MODIFIED:20260316T111447Z
UID:4427-1777053600-1777064400@www.murrayshall.co.uk
SUMMARY:Live Music
DESCRIPTION:Scott Reeves is live in Cairns! Enjoy live music alongside your meal. A mixture of classics\, covers\, originals and more for the evening. \nWalk-ins welcome. \nTo book\, call 01738 551171 or e-mail sales@murrayshall.co.uk
URL:https://www.murrayshall.co.uk/event/live-music-6/
END:VEVENT
BEGIN:VEVENT
DTSTART;TZID=Europe/London:20260417T180000
DTEND;TZID=Europe/London:20260417T210000
DTSTAMP:20260423T043947
CREATED:20260316T111113Z
LAST-MODIFIED:20260316T111113Z
UID:4426-1776448800-1776459600@www.murrayshall.co.uk
SUMMARY:Live Music
DESCRIPTION:Enjoy listening to Steve Newell in Cairns with a meal you’ll enjoy just as much. We are proud to host many talented\, local artists at Murrayshall\, who create an authentic image of Friday nights. \nWalk-ins welcome. \nCall 01738 551171 or email sales@murrayshall.co.uk to reserve a table.
URL:https://www.murrayshall.co.uk/event/live-music-5/
END:VEVENT
BEGIN:VEVENT
DTSTART;TZID=Europe/London:20260410T180000
DTEND;TZID=Europe/London:20260410T210000
DTSTAMP:20260423T043947
CREATED:20260316T110535Z
LAST-MODIFIED:20260316T110535Z
UID:4425-1775844000-1775854800@www.murrayshall.co.uk
SUMMARY:Live Music
DESCRIPTION:Love live music? Cairns is hosting Floyd Tomlinson for a night of authentic vocals. Enjoy covers\, mash-ups and more. \nWalk-ins welcome. \nPhone 01738 551171 or e-mail sales@murrayshall.co.uk to book.
URL:https://www.murrayshall.co.uk/event/live-music-4/
END:VEVENT
BEGIN:VEVENT
DTSTART;TZID=Europe/London:20260405T120000
DTEND;TZID=Europe/London:20260405T180000
DTSTAMP:20260423T043947
CREATED:20260316T104708Z
LAST-MODIFIED:20260316T145808Z
UID:4422-1775390400-1775412000@www.murrayshall.co.uk
SUMMARY:Bunnies and Bonnets
DESCRIPTION:Bunnies and Bonnets is a great way for the kids\, and adults\, to get creative for Easter. Including painting your own Easter bunny\, crafting your own Easter bonnet\, exploring the grounds on an Easter egg hunt and meeting THE Easter Bunny. Enjoy an Afternoon Tea after all the day’s excitements\, rejuvenate with sandwiches\, savouries and most importantly cakes! Hosted by Art by Po\, let your creativity run wild. £25 per adult and £30 per child.\n\nTo book\, call 01738 551171 or e-mail sales@murrayshall.co.uk
URL:https://www.murrayshall.co.uk/event/bunnies-and-bonnets/
LOCATION:Murrayshall\, Murrayshall Country Estate\, Scone.\, Perth\, PH2 7PH\, United Kingdom
END:VEVENT
BEGIN:VEVENT
DTSTART;TZID=Europe/London:20260403T180000
DTEND;TZID=Europe/London:20260403T210000
DTSTAMP:20260423T043947
CREATED:20260316T105739Z
LAST-MODIFIED:20260316T105739Z
UID:4424-1775239200-1775250000@www.murrayshall.co.uk
SUMMARY:Live Music
DESCRIPTION:Espire Music is at Murrayshall! Enjoy live music in Cairns with your favourite drinks\, meals and people. \nWalk ins welcome or book a table via sales@murrayshall.co.uk \nPhone 01738 551171.
URL:https://www.murrayshall.co.uk/event/live-music-3/
END:VEVENT
BEGIN:VEVENT
DTSTART;TZID=Europe/London:20260329T130000
DTEND;TZID=Europe/London:20260329T150000
DTSTAMP:20260423T043947
CREATED:20260316T101325Z
LAST-MODIFIED:20260316T143425Z
UID:4417-1774789200-1774796400@www.murrayshall.co.uk
SUMMARY:Easter Wreath Making Workshop
DESCRIPTION:Enjoy creating your very own Easter wreath with Audrey. For £70 per person\, all materials are included. Try your hand at creating your very own Easter themed wreath\, with real flowers and plants. Make this experience memorable by bringing your friends or family with you. \nTo book\, e-mail sales@murrayshall.co.uk \nFor more details e-mail sales@murrayshall.co.uk
URL:https://www.murrayshall.co.uk/event/easter-wreath-making-workshop-2/
LOCATION:Murrayshall\, Murrayshall Country Estate\, Scone.\, Perth\, PH2 7PH\, United Kingdom
END:VEVENT
BEGIN:VEVENT
DTSTART;TZID=Europe/London:20260328T130000
DTEND;TZID=Europe/London:20260328T150000
DTSTAMP:20260423T043947
CREATED:20260316T100750Z
LAST-MODIFIED:20260316T143308Z
UID:4415-1774702800-1774710000@www.murrayshall.co.uk
SUMMARY:Easter Wreath Making Workshop
DESCRIPTION:Enjoy creating your very own Easter wreath with Audrey. For £70 per person\, all materials are included. Try your hand at creating your very own Easter themed wreath\, with real flowers and plants. Make this experience memorable by bringing your friends or family with you. \nTo book\, e-mail sales@murrayshall.co.uk \nFor more details e-mail sales@murrayshall.co.uk
URL:https://www.murrayshall.co.uk/event/easter-wreath-making-workshop/
LOCATION:Murrayshall\, Murrayshall Country Estate\, Scone.\, Perth\, PH2 7PH\, United Kingdom
ORGANIZER;CN="Murrayshall Country Estate":MAILTO:sales@murrayshall.co.uk
END:VEVENT
BEGIN:VEVENT
DTSTART;TZID=Europe/London:20260327T180000
DTEND;TZID=Europe/London:20260327T210000
DTSTAMP:20260423T043947
CREATED:20260316T102637Z
LAST-MODIFIED:20260316T102637Z
UID:4419-1774634400-1774645200@www.murrayshall.co.uk
SUMMARY:Live Music
DESCRIPTION:Listen to Scott Reeves live in Cairns. Enjoy your favourite meals with classics\, originals\, covers and more. Walk-ins welcome. \nTo book\, call 01738 551171 or e-mail sales@murrayshall.co.uk
URL:https://www.murrayshall.co.uk/event/live-music-2/
END:VEVENT
BEGIN:VEVENT
DTSTART;TZID=Europe/London:20260320T180000
DTEND;TZID=Europe/London:20260320T210000
DTSTAMP:20260423T043947
CREATED:20260316T102043Z
LAST-MODIFIED:20260316T102043Z
UID:4418-1774029600-1774040400@www.murrayshall.co.uk
SUMMARY:Live Music
DESCRIPTION:Enjoy Espire Music playing live in Cairns. Immerse yourself in the music whilst savouring your chosen meal. Walk-ins welcome. \nTo book\, phone 01738 551171 or e-mail sales@murrayshall.co.uk
URL:https://www.murrayshall.co.uk/event/live-music/
END:VEVENT
BEGIN:VEVENT
DTSTART;TZID=Europe/London:20260315T120000
DTEND;TZID=Europe/London:20260315T180000
DTSTAMP:20260423T043947
CREATED:20260227T150343Z
LAST-MODIFIED:20260227T150813Z
UID:4413-1773576000-1773597600@www.murrayshall.co.uk
SUMMARY:Mother's Day Afternoon Tea
DESCRIPTION:This Mother’s Day\, gather at Murrayshall for an Afternoon Tea thoughtfully created by our chefs\, an indulgent way to celebrate Mum\, Gran or someone who means the most. \nBegin with hand-cut sandwiches on focaccia\, white and malted bloomer\, filled with St Ewe’s Roseland free-range egg mayonnaise\, George Campbell’s smoked Scottish salmon\, slow-roasted Scotch beef sirloin and more. \nWarm plain\, sultana and farmhouse cheese scones follow\, served with Heather Hills jam\, Cornish clotted cream and lightly salted butter. \nA signature pâtisserie selection completes the experience\, from elderflower and Yorkshire rhubarb pavlova to yuzu curd tart and tiramisu mousse\, all enjoyed in the relaxed surroundings of the estate. \n£35 per adult | £15 per child \nIncludes a gift for every Mum and Grandmother.
URL:https://www.murrayshall.co.uk/event/mothers-day-afternoon-tea/
ATTACH;FMTTYPE=image/jpeg:https://www.murrayshall.co.uk/wp-content/uploads/2026/02/493569959_1271639231632631_2396786411433086822_n.jpg
END:VEVENT
BEGIN:VEVENT
DTSTART;TZID=Europe/London:20251228T180000
DTEND;TZID=Europe/London:20251228T210000
DTSTAMP:20260423T043947
CREATED:20251006T134001Z
LAST-MODIFIED:20251006T134001Z
UID:4149-1766944800-1766955600@www.murrayshall.co.uk
SUMMARY:Jazz and Steak Night
DESCRIPTION:
URL:https://www.murrayshall.co.uk/event/jazz-and-steak-night/
END:VEVENT
BEGIN:VEVENT
DTSTART;TZID=Europe/London:20251205T190000
DTEND;TZID=Europe/London:20251205T235900
DTSTAMP:20260423T043947
CREATED:20250714T122220Z
LAST-MODIFIED:20250714T122220Z
UID:3881-1764961200-1764979140@www.murrayshall.co.uk
SUMMARY:Christmas Party Night
DESCRIPTION:
URL:https://www.murrayshall.co.uk/event/christmas-party-night-2/
END:VEVENT
BEGIN:VEVENT
DTSTART;TZID=Europe/London:20251204T190000
DTEND;TZID=Europe/London:20251204T235900
DTSTAMP:20260423T043947
CREATED:20250714T121548Z
LAST-MODIFIED:20250714T125012Z
UID:3880-1764874800-1764892740@www.murrayshall.co.uk
SUMMARY:Christmas Party Night
DESCRIPTION:Our highly popular Party Night includes a welcome glass of fizz\, three- course dinner\, with half a bottle of wine per person and DJ entertainment. \nWhy not stay the night? \nForget a taxi and make a night of it\, add on B&B for £100pp based on double occupancy or £190 single occupancy. Supplement applies for room upgrade from deluxe upwards. \nTo secure your party night booking\, a £25 per person will be required with the remaining full amount paid in 4 weeks prior to your party night date. All pre orders for both menu and Wines\, will also be required to be ordered 4 weeks in advance of your party night date and paid in full. \nLooking for a company private party night then we also can do this too\, please speak to our Events Manager for availability.
URL:https://www.murrayshall.co.uk/event/christmas-party-night/
END:VEVENT
BEGIN:VEVENT
DTSTART;TZID=Europe/London:20251130T110000
DTEND;TZID=Europe/London:20251130T160000
DTSTAMP:20260423T043947
CREATED:20250526T112348Z
LAST-MODIFIED:20250526T112348Z
UID:3798-1764500400-1764518400@www.murrayshall.co.uk
SUMMARY:Festive Market | Sunday
DESCRIPTION:A Festive Weekend at Murrayshall \nJoin us for a seasonal celebration at the Murrayshall Festive Market — set within the beautiful grounds of our country estate. \nBrowse a handpicked selection of local makers\, enjoy festive food and drink\, and take in the charm of the season in a relaxed countryside setting. \n📍 Murrayshall Country Estate📅 Saturday 29th & Sunday 30th November🕚 11am – 4pm🎟️ Free Entry \n\nBook your FREE ticket here. \nWhether you’re shopping for gifts or simply looking for a winter’s day out\, our market offers a warm welcome and a touch of Christmas magic.
URL:https://www.murrayshall.co.uk/event/festive-market-sunday/
LOCATION:Murrayshall\, Murrayshall Country Estate\, Scone.\, Perth\, PH2 7PH\, United Kingdom
END:VEVENT
BEGIN:VEVENT
DTSTART;TZID=Europe/London:20251129T110000
DTEND;TZID=Europe/London:20251129T160000
DTSTAMP:20260423T043947
CREATED:20250526T112037Z
LAST-MODIFIED:20250526T124747Z
UID:3796-1764414000-1764432000@www.murrayshall.co.uk
SUMMARY:Festive Market | Saturday
DESCRIPTION:A Festive Weekend at Murrayshall \nJoin us for a seasonal celebration at the Murrayshall Festive Market — set within the beautiful grounds of our country estate. \nBrowse a handpicked selection of local makers\, enjoy festive food and drink\, and take in the charm of the season in a relaxed countryside setting. \n📍 Murrayshall Country Estate📅 Saturday 29th & Sunday 30th November🕚 11am – 4pm🎟️ Free Entry \nBook your FREE ticket here. \nWhether you’re shopping for gifts or simply looking for a winter’s day out\, our market offers a warm welcome and a touch of Christmas magic.
URL:https://www.murrayshall.co.uk/event/festive-market-saturday/
LOCATION:Murrayshall\, Murrayshall Country Estate\, Scone.\, Perth\, PH2 7PH\, United Kingdom
END:VEVENT
BEGIN:VEVENT
DTSTART;TZID=Europe/London:20251128T160000
DTEND;TZID=Europe/London:20251128T210000
DTSTAMP:20260423T043947
CREATED:20250324T200821Z
LAST-MODIFIED:20250409T120953Z
UID:3678-1764345600-1764363600@www.murrayshall.co.uk
SUMMARY:November Curry Night
DESCRIPTION:Our Sri Lankan Chef\, Sahan makes THE best curries as we know and they are always sell-out events. \nOnly £15 per person and includes 3 Curries and 3 side dishes. \nBook now.
URL:https://www.murrayshall.co.uk/event/november-curry-night/
LOCATION:Murrayshall\, Murrayshall Country Estate\, Scone.\, Perth\, PH2 7PH\, United Kingdom
END:VEVENT
BEGIN:VEVENT
DTSTART;TZID=Europe/London:20251121T070000
DTEND;TZID=Europe/London:20251121T220000
DTSTAMP:20260423T043947
CREATED:20251009T073559Z
LAST-MODIFIED:20251009T074024Z
UID:4155-1763708400-1763762400@www.murrayshall.co.uk
SUMMARY:Eòlas Supper Club With Pommery
DESCRIPTION:Éolas Supper Club With Pommery \nJoin us at Éolas Restaurant on Friday 21st of November for an exclusive evening of fine food\, exceptional wines\, and captivating conversation at our Supper Club Wine Dinner. \nFor £85 per person\, indulge in four stunning courses crafted by our Head Chef Craig Jackson\, each perfectly paired with wines selected and introduced by Peter from Pommery Champagne. \nSet in the elegant surrounds of Éolas\, this hosted evening promises a memorable gastronomic journey celebrating seasonal flavours and world-class wines. \nDate: Friday 21st of NovemberTime: 7pmLocation: Éolas Restaurant\, Murrayshall \nSpaces are limited – early booking is highly recommended. \nBook Now
URL:https://www.murrayshall.co.uk/event/eolas-supper-club-with/
LOCATION:Murrayshall\, Murrayshall Country Estate\, Scone.\, Perth\, PH2 7PH\, United Kingdom
ATTACH;FMTTYPE=image/png:https://www.murrayshall.co.uk/wp-content/uploads/2024/11/Eolas-2-1.png
END:VEVENT
BEGIN:VEVENT
DTSTART;TZID=Europe/London:20251031T160000
DTEND;TZID=Europe/London:20251031T210000
DTSTAMP:20260423T043947
CREATED:20250324T195726Z
LAST-MODIFIED:20250409T121011Z
UID:3677-1761926400-1761944400@www.murrayshall.co.uk
SUMMARY:October Curry Night
DESCRIPTION:  \nOur Sri Lankan Chef\, Sahan makes THE best curries as we know and they are always sell-out events. \nOnly £15 per person and includes 3 Curries and 3 side dishes. \nBook now.
URL:https://www.murrayshall.co.uk/event/october-curry-night/
LOCATION:Murrayshall\, Murrayshall Country Estate\, Scone.\, Perth\, PH2 7PH\, United Kingdom
END:VEVENT
BEGIN:VEVENT
DTSTART;TZID=Europe/London:20251017T180000
DTEND;TZID=Europe/London:20251017T210000
DTSTAMP:20260423T043947
CREATED:20251002T155645Z
LAST-MODIFIED:20251006T092905Z
UID:4146-1760724000-1760734800@www.murrayshall.co.uk
SUMMARY:Steak and Jazz night
DESCRIPTION:Steak\, garnish\, chips and sauce and a bottle of win \nJazz Musicians from the Junior Section of the Royal Conservatoire of Scotland\, who will keep us all entertained throughout this relaxed Jazz and Steak Night. \n  \n 
URL:https://www.murrayshall.co.uk/event/steak-and-jazz-night/
END:VEVENT
BEGIN:VEVENT
DTSTART;TZID=Europe/London:20250928T120000
DTEND;TZID=Europe/London:20250928T170000
DTSTAMP:20260423T043947
CREATED:20250526T125159Z
LAST-MODIFIED:20250526T132812Z
UID:3799-1759060800-1759078800@www.murrayshall.co.uk
SUMMARY:Boozy Brunch
DESCRIPTION:Boozy Brunch at Murrayshall \nJoin us on Sunday 28th September for a relaxed and flavour-packed Boozy Brunch experience at Murrayshall. For just £45 per person\, guests will enjoy a delicious brunch menu\, three expertly crafted cocktails\, and live music from DJ Lewis—all set within the beautiful surroundings of our estate. A bus transfer is included\, with pick-up in Perth at 12pm\, travel to Murrayshall\, and return into town afterwards. \nTo start\, enjoy a selection of small croissants\, Danish pastries\, breadsticks\, a cured meat and cheese board\, marinated olives\, tzatziki and hummus—served for the table. Each guest will then enjoy a pre-selected main dish (details below)\, with all orders and dietary requirements to be submitted by Monday 8th of September to louise.netherington@murrayshall.co.uk. \nMain Dish Options: \n\n\nBrioche French toast with miso & sesame maple glaze\, streaky bacon \n\n\nTartlet of smoked Scottish salmon\, scrambled eggs\, chive crème fraîche & caviar \n\n\nCreamed wild mushroom & truffle on toasted sourdough\, topped with a poached duck egg \n\n\nToasted sourdough crumpets with dry cured ham\, poached eggs & champagne hollandaise \n\n\nSmashed avocado on toasted wild hearth sourdough with fried eggs\, puffed ancient grains & ancho pepper \n\n\nCocktails include:Limoncello Spritz\, Espresso Martini\, and Hendrick’s Garden \nTo book – email louise.netherington@murrayshall.co.uk. \n  \n 
URL:https://www.murrayshall.co.uk/event/boozy-brunch/
LOCATION:Murrayshall\, Murrayshall Country Estate\, Scone.\, Perth\, PH2 7PH\, United Kingdom
END:VEVENT
BEGIN:VEVENT
DTSTART;TZID=Europe/London:20250926T160000
DTEND;TZID=Europe/London:20250927T210000
DTSTAMP:20260423T043947
CREATED:20250326T194802Z
LAST-MODIFIED:20250922T090854Z
UID:3676-1758902400-1759006800@www.murrayshall.co.uk
SUMMARY:September Curry Night
DESCRIPTION:  \nOur Sri Lankan Chef\, Sahan makes THE best curries as we know and they are always sell-out events. \nOnly £15 per person and includes 3 Curries and 3 side dishes. \nBook now.
URL:https://www.murrayshall.co.uk/event/september-curry-night/
LOCATION:Murrayshall\, Murrayshall Country Estate\, Scone.\, Perth\, PH2 7PH\, United Kingdom
END:VEVENT
BEGIN:VEVENT
DTSTART;TZID=Europe/London:20250921T110000
DTEND;TZID=Europe/London:20250921T150000
DTSTAMP:20260423T043947
CREATED:20250829T090933Z
LAST-MODIFIED:20250829T090933Z
UID:4091-1758452400-1758466800@www.murrayshall.co.uk
SUMMARY:Murrayshall Wedding Fayre
DESCRIPTION:Come join us at the Murrayshall Country Estate for our Wedding Fare! Whether you’re a bride-to-be\, a groom-in-waiting\, or just love weddings\, this event is perfect for you. Explore a variety of vendors offering everything from stunning dresses to delicious cakes. Get inspired by the latest wedding trends and chat with experts who can help bring your dream day to life. Don’t miss out on this exciting opportunity to kickstart your wedding planning journey!
URL:https://www.murrayshall.co.uk/event/murrayshall-wedding-fayre/
END:VEVENT
BEGIN:VEVENT
DTSTART;VALUE=DATE:20250914
DTEND;VALUE=DATE:20250915
DTSTAMP:20260423T043947
CREATED:20250714T130325Z
LAST-MODIFIED:20250714T130325Z
UID:3884-1757808000-1757894399@www.murrayshall.co.uk
SUMMARY:Murrayshall Pro-Am
DESCRIPTION:Take your game to championship level at Murrayshall Estate\, proud host of the 2025 Pro-Am\, part of the prestigious Scottish Tartan Tour. \n\nSunday\, 14th September 2025 \nMurrayshall Estate\, Perthshire \nJoin us for a memorable day of golf on one of Scotland’s most iconic courses: \n-Play in a four-person team alongside a PGA Professional \n-Breakfast\, iO\, lunch\, and a prizegiving \nceremony included \n– A Fun add-ons: Nearest the Pin\, Longest Drive\, Sponsorship Opportunities \nTeam Entry: £475 \nBring your own pro or be paired with one by us. \nOpen to all skill levels! \nSecure your team’s spot today: \nashton.seniortwine@murrayshall.co.uk
URL:https://www.murrayshall.co.uk/event/murrayshall-pro-am/
END:VEVENT
END:VCALENDAR