BEGIN:VCALENDAR
VERSION:2.0
PRODID:-//Murrayshall Country Estate &amp; Golf Club - ECPv6.15.20//NONSGML v1.0//EN
CALSCALE:GREGORIAN
METHOD:PUBLISH
X-ORIGINAL-URL:https://www.murrayshall.co.uk
X-WR-CALDESC:Events for Murrayshall Country Estate &amp; Golf Club
REFRESH-INTERVAL;VALUE=DURATION:PT1H
X-Robots-Tag:noindex
X-PUBLISHED-TTL:PT1H
BEGIN:VTIMEZONE
TZID:Europe/London
BEGIN:DAYLIGHT
TZOFFSETFROM:+0000
TZOFFSETTO:+0100
TZNAME:BST
DTSTART:20250330T010000
END:DAYLIGHT
BEGIN:STANDARD
TZOFFSETFROM:+0100
TZOFFSETTO:+0000
TZNAME:GMT
DTSTART:20251026T010000
END:STANDARD
BEGIN:DAYLIGHT
TZOFFSETFROM:+0000
TZOFFSETTO:+0100
TZNAME:BST
DTSTART:20260329T010000
END:DAYLIGHT
BEGIN:STANDARD
TZOFFSETFROM:+0100
TZOFFSETTO:+0000
TZNAME:GMT
DTSTART:20261025T010000
END:STANDARD
BEGIN:DAYLIGHT
TZOFFSETFROM:+0000
TZOFFSETTO:+0100
TZNAME:BST
DTSTART:20270328T010000
END:DAYLIGHT
BEGIN:STANDARD
TZOFFSETFROM:+0100
TZOFFSETTO:+0000
TZNAME:GMT
DTSTART:20271031T010000
END:STANDARD
END:VTIMEZONE
BEGIN:VEVENT
DTSTART;TZID=Europe/London:20260501T180000
DTEND;TZID=Europe/London:20260501T210000
DTSTAMP:20260422T115512
CREATED:20260316T120951Z
LAST-MODIFIED:20260316T121226Z
UID:4435-1777658400-1777669200@www.murrayshall.co.uk
SUMMARY:Live Music
DESCRIPTION:Floyd Tomlinson will be live in Cairns on Friday the first of May. Enjoy tunes from all decades\, genres and discover your new favourite singer. Your night will be a night to remember\, with delicious food and mesmerising music. \nWalk-ins welcome. \nTo book\, call 01738 551171 or email sales@murrayshall.co.uk
URL:https://www.murrayshall.co.uk/event/live-music-7/
END:VEVENT
BEGIN:VEVENT
DTSTART;TZID=Europe/London:20260508T180000
DTEND;TZID=Europe/London:20260508T210000
DTSTAMP:20260422T115512
CREATED:20260316T111857Z
LAST-MODIFIED:20260316T133657Z
UID:4428-1778263200-1778274000@www.murrayshall.co.uk
SUMMARY:Steak and Jazz
DESCRIPTION:Steak and Jazz night in Cairns\, for just £70 for two people. Enjoy a romantic night together\, being serenaded by Lucas Plowman’s Jazz Band and feasting on your chosen steak. The perfect way to spend a Friday evening. \nTo book\, call 01738 551171 or email sales@murrayshall.co.uk
URL:https://www.murrayshall.co.uk/event/steak-and-jazz/
LOCATION:Murrayshall\, Murrayshall Country Estate\, Scone.\, Perth\, PH2 7PH\, United Kingdom
END:VEVENT
BEGIN:VEVENT
DTSTART;TZID=Europe/London:20260510T120000
DTEND;TZID=Europe/London:20260510T150000
DTSTAMP:20260422T115512
CREATED:20260316T112246Z
LAST-MODIFIED:20260316T112246Z
UID:4429-1778414400-1778425200@www.murrayshall.co.uk
SUMMARY:Stationary Workshop
DESCRIPTION:Create your own stationary with Audrey\, for £70 per person\, all materials included. Spend the day creating your own office or school stationary\, completely customisable to your own taste and style. \nTo book\, email sales@murrayshall.co.uk
URL:https://www.murrayshall.co.uk/event/stationary-workshop/
END:VEVENT
BEGIN:VEVENT
DTSTART;TZID=Europe/London:20260513T120000
DTEND;TZID=Europe/London:20260513T140000
DTSTAMP:20260422T115512
CREATED:20260316T112933Z
LAST-MODIFIED:20260316T133630Z
UID:4430-1778673600-1778680800@www.murrayshall.co.uk
SUMMARY:Boozy Race Afternoon Tea
DESCRIPTION:Enjoy your known afternoon tea\, but with a twist. In collaboration with Edinburgh Gin\, enjoy 2 cocktails or gin drinks per person\, with your afternoon tea. For £40 per person\, this includes a bus to Murrayshall and Perth Race Course. The perfect way to spend the afternoon before visiting the Perth Race Course. \nTo book\, call 01738 551171 or e-mail sales@murrayshall.co.uk
URL:https://www.murrayshall.co.uk/event/boozy-race-afternoon-tea/
LOCATION:Murrayshall\, Murrayshall Country Estate\, Scone.\, Perth\, PH2 7PH\, United Kingdom
END:VEVENT
BEGIN:VEVENT
DTSTART;TZID=Europe/London:20260514T110000
DTEND;TZID=Europe/London:20260514T130000
DTSTAMP:20260422T115512
CREATED:20260316T113403Z
LAST-MODIFIED:20260316T151529Z
UID:4431-1778756400-1778763600@www.murrayshall.co.uk
SUMMARY:Ladies Day Boozy Brunch
DESCRIPTION:Treat yourself to a Ladies Day Boozy Brunch\, for just £40 per person. Enjoy a brunch with two cocktails of your choice\, to get you ready for the day ahead. No need to worry about travel as there will be a bus to Murrayshall and to Perth Race Course. \nTo book\, call 01738 551171 or email sales@murrayshall.co.uk
URL:https://www.murrayshall.co.uk/event/boozy-brunch-2/
LOCATION:Murrayshall\, Murrayshall Country Estate\, Scone.\, Perth\, PH2 7PH\, United Kingdom
END:VEVENT
BEGIN:VEVENT
DTSTART;TZID=Europe/London:20260515T180000
DTEND;TZID=Europe/London:20260515T210000
DTSTAMP:20260422T115512
CREATED:20260316T122956Z
LAST-MODIFIED:20260316T133600Z
UID:4436-1778868000-1778878800@www.murrayshall.co.uk
SUMMARY:Live Music
DESCRIPTION:Listen to Katie Whittaker live in Cairns. Katie will ensure your night is perfectly accommodated with memorable melodies and classic tunes. It is important to support local artists and ensure they are recognised f0r their talent. \nWalk-ins welcome. \nTo reserve a table call 01738 551171 or e-mail sales@murrayshall.co.uk
URL:https://www.murrayshall.co.uk/event/live-music-8/
LOCATION:Murrayshall\, Murrayshall Country Estate\, Scone.\, Perth\, PH2 7PH\, United Kingdom
END:VEVENT
BEGIN:VEVENT
DTSTART;TZID=Europe/London:20260522T180000
DTEND;TZID=Europe/London:20260522T210000
DTSTAMP:20260422T115512
CREATED:20260316T123542Z
LAST-MODIFIED:20260316T133545Z
UID:4437-1779472800-1779483600@www.murrayshall.co.uk
SUMMARY:Live Music
DESCRIPTION:Espire Music will play in Cairns on the 22nd of May from 6pm. This is perfect for a night out with friends\, family or significant others. Listen to covers and originals whilst enjoying your meal. \nWalk-ins welcome. \nTo book\, call 01738 551171 or e-mail sales@murrayshall.co.uk
URL:https://www.murrayshall.co.uk/event/live-music-9/
LOCATION:Murrayshall\, Murrayshall Country Estate\, Scone.\, Perth\, PH2 7PH\, United Kingdom
END:VEVENT
BEGIN:VEVENT
DTSTART;TZID=Europe/London:20260522T190000
DTEND;TZID=Europe/London:20260522T220000
DTSTAMP:20260422T115512
CREATED:20260316T113839Z
LAST-MODIFIED:20260316T133529Z
UID:4432-1779476400-1779487200@www.murrayshall.co.uk
SUMMARY:Eolas Grand Reopening
DESCRIPTION:The relaunch of Eolas is upon us. The 22nd of May will see the Pommery Supper Club at £95 per person. Celebrate the new menu\, and long awaited reopening of the fine-dining restaurant\, with us at 7pm. \nBy booking only. \nTo book\, call 01738 551171 or email sales@murrayshall.co.uk \n  \n 
URL:https://www.murrayshall.co.uk/event/eolas-grand-reopening/
LOCATION:Murrayshall\, Murrayshall Country Estate\, Scone.\, Perth\, PH2 7PH\, United Kingdom
END:VEVENT
BEGIN:VEVENT
DTSTART;TZID=Europe/London:20260528T180000
DTEND;TZID=Europe/London:20260528T210000
DTSTAMP:20260422T115512
CREATED:20260316T114318Z
LAST-MODIFIED:20260316T133500Z
UID:4433-1779991200-1780002000@www.murrayshall.co.uk
SUMMARY:Curry Night
DESCRIPTION:Sri Lankan curry night is back on with Sahan’s new dishes! At £18.50 per person. Enjoy a selection of three aromatic curries\, bursting with authentic flavours\, along with a selection of rice\, naan and poppadoms. Served from 6pm. \nWalk-ins welcome\, however booking is advised. \nTo book\, call 01738 551171 or email sales@murrayshall.co.uk
URL:https://www.murrayshall.co.uk/event/curry-night/
LOCATION:Murrayshall\, Murrayshall Country Estate\, Scone.\, Perth\, PH2 7PH\, United Kingdom
END:VEVENT
BEGIN:VEVENT
DTSTART;TZID=Europe/London:20260529T180000
DTEND;TZID=Europe/London:20260529T210000
DTSTAMP:20260422T115512
CREATED:20260316T123826Z
LAST-MODIFIED:20260316T133445Z
UID:4438-1780077600-1780088400@www.murrayshall.co.uk
SUMMARY:Live Music
DESCRIPTION:Scott Reeves is live in Cairns! Enjoy your favourite meal with your favourites songs. A picture perfect evening in our back restaurant. \nWalk-ins welcome. \nTo reserve a table\, call 01738 551171 or email sales@murrayshall.co.uk
URL:https://www.murrayshall.co.uk/event/live-music-10/
LOCATION:Murrayshall\, Murrayshall Country Estate\, Scone.\, Perth\, PH2 7PH\, United Kingdom
END:VEVENT
BEGIN:VEVENT
DTSTART;TZID=Europe/London:20260531T140000
DTEND;TZID=Europe/London:20260531T170000
DTSTAMP:20260422T115512
CREATED:20260316T114600Z
LAST-MODIFIED:20260320T151102Z
UID:4434-1780236000-1780246800@www.murrayshall.co.uk
SUMMARY:Watercolour with Art By Po
DESCRIPTION:Try your hand at watercolours with Pauline on Sunday the 31st of May. From £24 per person\, all materials included\, enjoy being taught all the tips and tricks of watercolour painting on canvas. From 2pm until 5pm. Limited availability. \nTo book\, email louise.netherington@murrayshall.co.uk
URL:https://www.murrayshall.co.uk/event/watercolour-with-pauline/
LOCATION:Murrayshall\, Murrayshall Country Estate\, Scone.\, Perth\, PH2 7PH\, United Kingdom
END:VEVENT
END:VCALENDAR