BEGIN:VCALENDAR
VERSION:2.0
PRODID:-//Murrayshall Country Estate &amp; Golf Club - ECPv6.15.20//NONSGML v1.0//EN
CALSCALE:GREGORIAN
METHOD:PUBLISH
X-ORIGINAL-URL:https://www.murrayshall.co.uk
X-WR-CALDESC:Events for Murrayshall Country Estate &amp; Golf Club
REFRESH-INTERVAL;VALUE=DURATION:PT1H
X-Robots-Tag:noindex
X-PUBLISHED-TTL:PT1H
BEGIN:VTIMEZONE
TZID:Europe/London
BEGIN:DAYLIGHT
TZOFFSETFROM:+0000
TZOFFSETTO:+0100
TZNAME:BST
DTSTART:20250330T010000
END:DAYLIGHT
BEGIN:STANDARD
TZOFFSETFROM:+0100
TZOFFSETTO:+0000
TZNAME:GMT
DTSTART:20251026T010000
END:STANDARD
BEGIN:DAYLIGHT
TZOFFSETFROM:+0000
TZOFFSETTO:+0100
TZNAME:BST
DTSTART:20260329T010000
END:DAYLIGHT
BEGIN:STANDARD
TZOFFSETFROM:+0100
TZOFFSETTO:+0000
TZNAME:GMT
DTSTART:20261025T010000
END:STANDARD
BEGIN:DAYLIGHT
TZOFFSETFROM:+0000
TZOFFSETTO:+0100
TZNAME:BST
DTSTART:20270328T010000
END:DAYLIGHT
BEGIN:STANDARD
TZOFFSETFROM:+0100
TZOFFSETTO:+0000
TZNAME:GMT
DTSTART:20271031T010000
END:STANDARD
END:VTIMEZONE
BEGIN:VEVENT
DTSTART;TZID=Europe/London:20260605T180000
DTEND;TZID=Europe/London:20260605T210000
DTSTAMP:20260422T132211
CREATED:20260316T125936Z
LAST-MODIFIED:20260316T125936Z
UID:4443-1780682400-1780693200@www.murrayshall.co.uk
SUMMARY:Live Music
DESCRIPTION:Floyd Tomlinson will be live in Cairns. Enjoy a Cairns meal and beverage whilst admiring a local artist. This night is perfect for intimate dinners or family meals\, even for a solo trip just to support a talented artist. \nWalk-ins welcome. \nTo book\, call 01738 551171 or e-mail sales@murrayshall.co.uk
URL:https://www.murrayshall.co.uk/event/live-music-11/
END:VEVENT
BEGIN:VEVENT
DTSTART;TZID=Europe/London:20260607T110000
DTEND;TZID=Europe/London:20260607T130000
DTSTAMP:20260422T132211
CREATED:20260316T124225Z
LAST-MODIFIED:20260316T133405Z
UID:4439-1780830000-1780837200@www.murrayshall.co.uk
SUMMARY:Gold Cup Boozy Brunch
DESCRIPTION:Enjoy a Boozy Brunch before heading to the Perth Race Course for the Gold Cup. Brunch time includes two cocktails\, some deliciously dirty food and a bus to Murrayshall and the Perth Race Course. All for £40 per person. \nBook by phoning 01738 551171 or e-mailing sales@murrayshall.co.uk
URL:https://www.murrayshall.co.uk/event/gold-cup-boozy-brunch/
LOCATION:Murrayshall\, Murrayshall Country Estate\, Scone.\, Perth\, PH2 7PH\, United Kingdom
END:VEVENT
BEGIN:VEVENT
DTSTART;TZID=Europe/London:20260612T180000
DTEND;TZID=Europe/London:20260612T210000
DTSTAMP:20260422T132211
CREATED:20260316T130333Z
LAST-MODIFIED:20260316T133349Z
UID:4444-1781287200-1781298000@www.murrayshall.co.uk
SUMMARY:Live Music
DESCRIPTION:Katie Whittaker live in Cairns! Come along to immerse yourself in the vocals of Katie Whittaker\, enjoy an evening of classics and originals\, whilst diving into a delectable dish and\, perhaps\, an alcoholic beverage. An ideal way to spend a Friday evening. \nWalk-ins welcome. \nTo book\, call 01738 551171 or email sales@murrayshall.co.uk
URL:https://www.murrayshall.co.uk/event/live-music-12/
LOCATION:Murrayshall\, Murrayshall Country Estate\, Scone.\, Perth\, PH2 7PH\, United Kingdom
END:VEVENT
BEGIN:VEVENT
DTSTART;VALUE=DATE:20260615
DTEND;VALUE=DATE:20260616
DTSTAMP:20260422T132211
CREATED:20260316T124737Z
LAST-MODIFIED:20260320T153603Z
UID:4440-1781481600-1781567999@www.murrayshall.co.uk
SUMMARY:Scotland's First World Cup Match
DESCRIPTION:Drown your sorrows\, or maybe celebrate a win\, on the 15th of June after Scotland’s first football match playing in the big leagues. This day calls for celebration no matter the result\, so come along to the Burger and Quiz night. For £25 per person\, create your team and join in with the festivities. \nWalk-ins welcome. \nTo book e-mail sales@murrayshall.co.uk or phone 01738 551171.
URL:https://www.murrayshall.co.uk/event/scotlands-first-world-cup-match/
LOCATION:Murrayshall\, Murrayshall Country Estate\, Scone.\, Perth\, PH2 7PH\, United Kingdom
END:VEVENT
BEGIN:VEVENT
DTSTART;TZID=Europe/London:20260619T180000
DTEND;TZID=Europe/London:20260619T210000
DTSTAMP:20260422T132211
CREATED:20260316T130926Z
LAST-MODIFIED:20260316T130926Z
UID:4445-1781892000-1781902800@www.murrayshall.co.uk
SUMMARY:Live Music
DESCRIPTION:Listen to Espire Music live in Cairns. Enjoy being serenaded whilst tucking in to your favourite Cairns meal. This is perfect for a dinner with your significant other or just a night out with friends. \nWalk-ins welcome. \nTo book\, e-mail sales@murrayshall.co.uk or call 01738 551171.
URL:https://www.murrayshall.co.uk/event/live-music-13/
END:VEVENT
BEGIN:VEVENT
DTSTART;TZID=Europe/London:20260626T180000
DTEND;TZID=Europe/London:20260626T210000
DTSTAMP:20260422T132211
CREATED:20260316T131239Z
LAST-MODIFIED:20260316T133257Z
UID:4446-1782496800-1782507600@www.murrayshall.co.uk
SUMMARY:Live Music
DESCRIPTION:Enjoyed Katie Whittaker? She is back again! Live in Cairns\, Katie sets a movie-like atmosphere for everyone to have their main character moment. Enjoy an evening of good food and magical music. \nWalk-ins welcome. \nTo book\, call 01738 551171 or e-mail sales@murrayshall.co.uk
URL:https://www.murrayshall.co.uk/event/live-music-14/
LOCATION:Murrayshall\, Murrayshall Country Estate\, Scone.\, Perth\, PH2 7PH\, United Kingdom
END:VEVENT
END:VCALENDAR