BEGIN:VCALENDAR
VERSION:2.0
PRODID:-//Murrayshall Country Estate &amp; Golf Club - ECPv6.15.20//NONSGML v1.0//EN
CALSCALE:GREGORIAN
METHOD:PUBLISH
X-WR-CALNAME:Murrayshall Country Estate &amp; Golf Club
X-ORIGINAL-URL:https://www.murrayshall.co.uk
X-WR-CALDESC:Events for Murrayshall Country Estate &amp; Golf Club
REFRESH-INTERVAL;VALUE=DURATION:PT1H
X-Robots-Tag:noindex
X-PUBLISHED-TTL:PT1H
BEGIN:VTIMEZONE
TZID:Europe/London
BEGIN:DAYLIGHT
TZOFFSETFROM:+0000
TZOFFSETTO:+0100
TZNAME:BST
DTSTART:20250330T010000
END:DAYLIGHT
BEGIN:STANDARD
TZOFFSETFROM:+0100
TZOFFSETTO:+0000
TZNAME:GMT
DTSTART:20251026T010000
END:STANDARD
BEGIN:DAYLIGHT
TZOFFSETFROM:+0000
TZOFFSETTO:+0100
TZNAME:BST
DTSTART:20260329T010000
END:DAYLIGHT
BEGIN:STANDARD
TZOFFSETFROM:+0100
TZOFFSETTO:+0000
TZNAME:GMT
DTSTART:20261025T010000
END:STANDARD
BEGIN:DAYLIGHT
TZOFFSETFROM:+0000
TZOFFSETTO:+0100
TZNAME:BST
DTSTART:20270328T010000
END:DAYLIGHT
BEGIN:STANDARD
TZOFFSETFROM:+0100
TZOFFSETTO:+0000
TZNAME:GMT
DTSTART:20271031T010000
END:STANDARD
END:VTIMEZONE
BEGIN:VEVENT
DTSTART;TZID=Europe/London:20260906T110000
DTEND;TZID=Europe/London:20260906T130000
DTSTAMP:20260422T174818
CREATED:20260316T135422Z
LAST-MODIFIED:20260316T135422Z
UID:4450-1788692400-1788699600@www.murrayshall.co.uk
SUMMARY:Boozy Brunch
DESCRIPTION:Treat yourself to a Boozy Brunch at Murrayshall Country Estate\, for just £40 per person. Brunch time includes\, a bus to Murrayshall and Perth Race Course\, 2 cocktails per person and a live DJ\, to get you ready for the day! Brunch starts at 11am. \nTo book\, call 01738 551171 or e-mail sales@murrayshall.co.uk
URL:https://www.murrayshall.co.uk/event/boozy-brunch-3/
LOCATION:Murrayshall\, Murrayshall Country Estate\, Scone.\, Perth\, PH2 7PH\, United Kingdom
END:VEVENT
BEGIN:VEVENT
DTSTART;TZID=Europe/London:20260918T190000
DTEND;TZID=Europe/London:20260918T220000
DTSTAMP:20260422T174818
CREATED:20260316T135855Z
LAST-MODIFIED:20260316T135855Z
UID:4451-1789758000-1789768800@www.murrayshall.co.uk
SUMMARY:Eolas Supper Club
DESCRIPTION:Friday the 18th of September will see Eolas Supper Club for £85 per person. Enjoy a new tasting menu and feel like luxury with a winemaker on hand for all your wine needs. Indulge in every course and discuss the meal to your hearts content. Served from 7pm. \nBooking only. \nCall 01738 551171 or e-mail sales@murrayshall.co.uk to reserve a table.
URL:https://www.murrayshall.co.uk/event/eolas-supper-club-2/
LOCATION:Murrayshall\, Murrayshall Country Estate\, Scone.\, Perth\, PH2 7PH\, United Kingdom
END:VEVENT
BEGIN:VEVENT
DTSTART;TZID=Europe/London:20260924T180000
DTEND;TZID=Europe/London:20260924T210000
DTSTAMP:20260422T174818
CREATED:20260316T140430Z
LAST-MODIFIED:20260316T140430Z
UID:4452-1790272800-1790283600@www.murrayshall.co.uk
SUMMARY:Sri Lankan Curry Night
DESCRIPTION:Indulge in authentic Sri Lankan recipes\, created by our very own Sri Lankan Chef – Sahan. This evening is full of flavour and fun. Enjoy a selection of three new dishes with rice\, naan and poppadoms. \nWalk-ins welcome. \nTo book\, call 01738 551171 or e-mail sales@murrayshall.co.uk
URL:https://www.murrayshall.co.uk/event/sri-lankan-curry-night-2/
LOCATION:Murrayshall\, Murrayshall Country Estate\, Scone.\, Perth\, PH2 7PH\, United Kingdom
END:VEVENT
END:VCALENDAR